BEGIN:VCALENDAR
VERSION:2.0
PRODID:-//wp-events-plugin.com//7.1.1//EN
BEGIN:VEVENT
UID:924@vfmg.ch
DTSTART:20210318T230000Z
DTEND:20210320T230000Z
DTSTAMP:20260422T114328Z
URL:
SUMMARY:BESJ-Teamweekend
DESCRIPTION:
LOCATION:Campus Perspektiven\, Schwarzenbach\, Dörfli 6\, Schwarzenbach\, 
 Schweiz
GEO:47.442164;9.073843
X-APPLE-STRUCTURED-LOCATION;VALUE=URI;X-ADDRESS=Dörfli 6\, Schwarzenbach\,
  Schweiz;X-APPLE-RADIUS=100;X-TITLE=Campus Perspektiven\, Schwarzenbach:ge
 o:47.442164,9.073843
END:VEVENT
END:VCALENDAR