BEGIN:VCALENDAR
VERSION:2.0
PRODID:-//wp-events-plugin.com//7.1.1//EN
BEGIN:VEVENT
UID:1159@vfmg.ch
DTSTART;TZID=Europe/Zurich;VALUE=DATE:20270109
DTEND;TZID=Europe/Zurich;VALUE=DATE:20270110
DTSTAMP:20260422T140659Z
URL:https://www.vfmg.ch/events/fachkurs-gemeindeleitung-tag-1-4/
SUMMARY:Fachkurs Gemeindeleitung\, Tag 1
DESCRIPTION:
ATTACH;FMTTYPE=image/jpeg:https://www.vfmg.ch/wp-content/uploads/2024/12/2
 025-04_ifge_fgl.jpg
CATEGORIES:vfmg
END:VEVENT
BEGIN:VTIMEZONE
TZID:Europe/Zurich
X-LIC-LOCATION:Europe/Zurich
BEGIN:STANDARD
DTSTART:20261025T020000
TZOFFSETFROM:+0200
TZOFFSETTO:+0100
TZNAME:CET
END:STANDARD
END:VTIMEZONE
END:VCALENDAR