BEGIN:VCALENDAR
VERSION:2.0
PRODID:-//wp-events-plugin.com//7.1.1//EN
BEGIN:VEVENT
UID:1161@vfmg.ch
DTSTART;TZID=Europe/Zurich;VALUE=DATE:20270410
DTEND;TZID=Europe/Zurich;VALUE=DATE:20270411
DTSTAMP:20260422T143447Z
URL:https://www.vfmg.ch/events/fachkurs-gemeindeleitung-tag-2-4/
SUMMARY:Fachkurs Gemeindeleitung\, Tag 3
DESCRIPTION:
ATTACH;FMTTYPE=image/jpeg:https://www.vfmg.ch/wp-content/uploads/2024/12/2
 025-04_ifge_fgl.jpg
CATEGORIES:vfmg
END:VEVENT
BEGIN:VTIMEZONE
TZID:Europe/Zurich
X-LIC-LOCATION:Europe/Zurich
BEGIN:DAYLIGHT
DTSTART:20270328T030000
TZOFFSETFROM:+0100
TZOFFSETTO:+0200
TZNAME:CEST
END:DAYLIGHT
END:VTIMEZONE
END:VCALENDAR