BEGIN:VCALENDAR
VERSION:2.0
PRODID:-//wp-events-plugin.com//7.1.1//EN
BEGIN:VEVENT
UID:1128@vfmg.ch
DTSTART;VALUE=DATE:20260711
DTEND;VALUE=DATE:20260718
DTSTAMP:20251217T074143Z
URL:https://www.vfmg.ch/events/kinderlager-der-vfmg-4/
SUMMARY:Kinderlager der VFMG
DESCRIPTION:
ATTACH;FMTTYPE=image/jpeg:https://www.vfmg.ch/wp-content/uploads/2025/12/2
 026-07_kids.jpg
CATEGORIES:kids
LOCATION:Ferienhaus Sunneheim\, Hägsbach\, Wyssachen\, 4954\, Schweiz
GEO:47.08038029999999;7.8217303999999785
X-APPLE-STRUCTURED-LOCATION;VALUE=URI;X-ADDRESS=Hägsbach\, Wyssachen\, 495
 4\, Schweiz;X-APPLE-RADIUS=100;X-TITLE=Ferienhaus Sunneheim:geo:47.0803802
 9999999,7.8217303999999785
END:VEVENT
END:VCALENDAR