BEGIN:VCALENDAR
VERSION:2.0
PRODID:-//wp-events-plugin.com//7.1.1//EN
BEGIN:VEVENT
UID:1141@vfmg.ch
DTSTART;TZID=Europe/Zurich:20260817T200000
DTEND;TZID=Europe/Zurich:20260817T211500
DTSTAMP:20260115T080126Z
URL:https://www.vfmg.ch/events/online-seminar-gute-fuehrung-im-kinderprogr
 amm-2/
SUMMARY:Online-Seminar: Gottesdienste für alle Generationen - aber wie?
DESCRIPTION:
ATTACH;FMTTYPE=image/jpeg:https://www.vfmg.ch/wp-content/uploads/2026/01/p
 exels-photo-4050291-4050291.jpg
CATEGORIES:kids,vfmg
END:VEVENT
BEGIN:VTIMEZONE
TZID:Europe/Zurich
X-LIC-LOCATION:Europe/Zurich
BEGIN:DAYLIGHT
DTSTART:20260329T030000
TZOFFSETFROM:+0100
TZOFFSETTO:+0200
TZNAME:CEST
END:DAYLIGHT
END:VTIMEZONE
END:VCALENDAR