BEGIN:VCALENDAR
VERSION:2.0
PRODID:-//wp-events-plugin.com//7.1.1//EN
BEGIN:VEVENT
UID:1142@vfmg.ch
DTSTART;TZID=Europe/Zurich:20261123T200000
DTEND;TZID=Europe/Zurich:20261123T211500
DTSTAMP:20260115T080205Z
URL:https://www.vfmg.ch/events/online-seminar-kinderhueeti-mit-tiefgang/
SUMMARY:Online-Seminar: Kinderhüeti mit Tiefgang
DESCRIPTION:
ATTACH;FMTTYPE=image/jpeg:https://www.vfmg.ch/wp-content/uploads/2026/01/p
 exels-photo-4050291-4050291.jpg
CATEGORIES:kids,vfmg
END:VEVENT
BEGIN:VTIMEZONE
TZID:Europe/Zurich
X-LIC-LOCATION:Europe/Zurich
BEGIN:STANDARD
DTSTART:20261025T020000
TZOFFSETFROM:+0200
TZOFFSETTO:+0100
TZNAME:CET
END:STANDARD
END:VTIMEZONE
END:VCALENDAR