BEGIN:VCALENDAR
VERSION:2.0
PRODID:-//wp-events-plugin.com//7.1.1//EN
BEGIN:VEVENT
UID:1025@vfmg.ch
DTSTART:20261109T230000Z
DTEND:20261112T230000Z
DTSTAMP:20260422T100026Z
URL:https://www.vfmg.ch/fr/events/freizeit-ue-60/
SUMMARY:Freizeit Ü 60
DESCRIPTION:
ATTACH;FMTTYPE=image/jpeg:https://www.vfmg.ch/wp-content/uploads/2026/04/2
 026-11_UE60-Freizeit.jpg
CATEGORIES:seniors
LOCATION:Hotel Sunnehüsi Krattigen\, Alte Gasse 10 \, Krattigen\, 3704\, S
 uisse
GEO:46.6625742;7.7279791
X-APPLE-STRUCTURED-LOCATION;VALUE=URI;X-ADDRESS=Alte Gasse 10 \, Krattigen\
 , 3704\, Suisse;X-APPLE-RADIUS=100;X-TITLE=Hotel Sunnehüsi Krattigen:geo:
 46.6625742,7.7279791
END:VEVENT
END:VCALENDAR