BEGIN:VCALENDAR
VERSION:2.0
PRODID:-//wp-events-plugin.com//7.1.1//EN
BEGIN:VEVENT
UID:1131@vfmg.ch
DTSTART;TZID=Europe/Zurich;VALUE=DATE:20261031
DTEND;TZID=Europe/Zurich;VALUE=DATE:20261108
DTSTAMP:20250626T134608Z
URL:https://www.vfmg.ch/fr/events/gebets-und-fastenwoche-5/
SUMMARY:Gebets- und Fastenwoche
DESCRIPTION:
CATEGORIES:vfmg
LOCATION:Hotel Hari im Schlegeli\, Gartenweg 5\, Adelboden\, 3715\, Suisse
GEO:46.4962854;7.56483419999995
X-APPLE-STRUCTURED-LOCATION;VALUE=URI;X-ADDRESS=Gartenweg 5\, Adelboden\, 3
 715\, Suisse;X-APPLE-RADIUS=100;X-TITLE=Hotel Hari im Schlegeli:geo:46.496
 2854,7.56483419999995
END:VEVENT
BEGIN:VTIMEZONE
TZID:Europe/Zurich
X-LIC-LOCATION:Europe/Zurich
BEGIN:STANDARD
DTSTART:20261025T020000
TZOFFSETFROM:+0200
TZOFFSETTO:+0100
TZNAME:CET
END:STANDARD
END:VTIMEZONE
END:VCALENDAR