BEGIN:VCALENDAR
VERSION:2.0
PRODID:-//wp-events-plugin.com//7.1.1//EN
BEGIN:VEVENT
UID:1147@vfmg.ch
DTSTART;TZID=Europe/Zurich:20270119T100000
DTEND;TZID=Europe/Zurich:20270120T153000
DTSTAMP:20260313T132910Z
URL:https://www.vfmg.ch/fr/events/lep-modul-1/
SUMMARY:LEP - Modul 1
DESCRIPTION:Thema\nAls Führungskraft für die eigene Entwicklung sorgen.
ATTACH;FMTTYPE=image/jpeg:https://www.vfmg.ch/wp-content/uploads/2026/02/2
 027-28_cas-lep.jpg
CATEGORIES:lep,Pastoren,vfmg,Weiterbildung
LOCATION:Seminar und Freizeithaus Wydibühl\, Wydibühlstrasse 24\, Herblig
 en\, 3671\, Suisse
GEO:46.823461;7.618811
X-APPLE-STRUCTURED-LOCATION;VALUE=URI;X-ADDRESS=Wydibühlstrasse 24\, Herbl
 igen\, 3671\, Suisse;X-APPLE-RADIUS=100;X-TITLE=Seminar und Freizeithaus W
 ydibühl:geo:46.823461,7.618811
END:VEVENT
BEGIN:VTIMEZONE
TZID:Europe/Zurich
X-LIC-LOCATION:Europe/Zurich
BEGIN:STANDARD
DTSTART:20261025T020000
TZOFFSETFROM:+0200
TZOFFSETTO:+0100
TZNAME:CET
END:STANDARD
END:VTIMEZONE
END:VCALENDAR