BEGIN:VCALENDAR
VERSION:2.0
PRODID:-//wp-events-plugin.com//7.1.1//EN
BEGIN:VEVENT
UID:1047@vfmg.ch
DTSTART:20260617T090000Z
DTEND:20260617T160000Z
DTSTAMP:20260112T093219Z
URL:https://www.vfmg.ch/fr/events/vfmg-tag-60plus/
SUMMARY:VFMG-Tag 60plus
DESCRIPTION:[gravityform id="64" title="false" description="false"]
ATTACH;FMTTYPE=image/jpeg:https://www.vfmg.ch/wp-content/uploads/2025/12/2
 026-06_KettenVogel.jpg
CATEGORIES:vfmg
LOCATION:FMG Region Zofingen\, Missionshaus\, Wiggerweg 4\, Strengelbach\, 
 4802\, Suisse
GEO:47.2817754;7.9346684
X-APPLE-STRUCTURED-LOCATION;VALUE=URI;X-ADDRESS=Missionshaus\, Wiggerweg 4\
 , Strengelbach\, 4802\, Suisse;X-APPLE-RADIUS=100;X-TITLE=FMG Region Zofin
 gen:geo:47.2817754,7.9346684
END:VEVENT
END:VCALENDAR